BEGIN:VCALENDAR
CALSCALE:GREGORIAN
VERSION:2.0
METHOD:REQUEST
BEGIN:VEVENT
UID:1773382290595
LOCATION:MAK – Museum für angewandte Kunst
ORGANIZER:office@mak.at
DTSTART:20260517T110000
DTEND:20260517T120000
DTSTAMP:20260422T074502
LASTMODIFIED:20260422T074502
SEQUENCE:0
SUMMARY:MAKtour: Bühnen des Alltags
CLASS:PUBLIC
END:VEVENT
END:VCALENDAR

