BEGIN:VCALENDAR
CALSCALE:GREGORIAN
VERSION:2.0
METHOD:REQUEST
BEGIN:VEVENT
UID:1773382291970
LOCATION:MAK – Museum für angewandte Kunst
ORGANIZER:office@mak.at
DTSTART:20260515T163000
DTEND:20260515T173000
DTSTAMP:20260421T223326
LASTMODIFIED:20260421T223326
SEQUENCE:0
SUMMARY:CHRISTOPH SCHLINGENSIEF: Künstler*innenführung mit Kurdwin Ayub
CLASS:PUBLIC
END:VEVENT
END:VCALENDAR

