BEGIN:VCALENDAR
CALSCALE:GREGORIAN
VERSION:2.0
METHOD:REQUEST
BEGIN:VEVENT
UID:1773382292500
LOCATION:MAK – Museum für angewandte Kunst
ORGANIZER:office@mak.at
DTSTART:20260905T101500
DTEND:20260905T131500
DTSTAMP:20260425T213439
LASTMODIFIED:20260425T213439
SEQUENCE:0
SUMMARY:MAK-it! in Kooperation mit L’ÉCOLE, School of Jewelry Arts von Van Cleef & Arpels: Die Gouache in der Haute Joaillerie – das Licht
CLASS:PUBLIC
END:VEVENT
END:VCALENDAR

