BEGIN:VCALENDAR
CALSCALE:GREGORIAN
VERSION:2.0
METHOD:REQUEST
BEGIN:VEVENT
UID:1773382292502
LOCATION:MAK – Museum für angewandte Kunst
ORGANIZER:office@mak.at
DTSTART:20260905T140000
DTEND:20260905T170000
DTSTAMP:20260425T213438
LASTMODIFIED:20260425T213438
SEQUENCE:0
SUMMARY:MAK-it! in Kooperation mit L’ÉCOLE, School of Jewelry Arts von Van Cleef & Arpels: Die Gouache in der Haute Joaillerie – die Farbe
CLASS:PUBLIC
END:VEVENT
END:VCALENDAR

